BEGIN:VCALENDAR
VERSION:2.0
PRODID:-//Carrie Coppola Yoga - ECPv6.15.17//NONSGML v1.0//EN
CALSCALE:GREGORIAN
METHOD:PUBLISH
X-ORIGINAL-URL:https://bejoyyoga.com
X-WR-CALDESC:Events for Carrie Coppola Yoga
REFRESH-INTERVAL;VALUE=DURATION:PT1H
X-Robots-Tag:noindex
X-PUBLISHED-TTL:PT1H
BEGIN:VTIMEZONE
TZID:America/Denver
BEGIN:DAYLIGHT
TZOFFSETFROM:-0700
TZOFFSETTO:-0600
TZNAME:MDT
DTSTART:20240310T090000
END:DAYLIGHT
BEGIN:STANDARD
TZOFFSETFROM:-0600
TZOFFSETTO:-0700
TZNAME:MST
DTSTART:20241103T080000
END:STANDARD
BEGIN:DAYLIGHT
TZOFFSETFROM:-0700
TZOFFSETTO:-0600
TZNAME:MDT
DTSTART:20250309T090000
END:DAYLIGHT
BEGIN:STANDARD
TZOFFSETFROM:-0600
TZOFFSETTO:-0700
TZNAME:MST
DTSTART:20251102T080000
END:STANDARD
BEGIN:DAYLIGHT
TZOFFSETFROM:-0700
TZOFFSETTO:-0600
TZNAME:MDT
DTSTART:20260308T090000
END:DAYLIGHT
BEGIN:STANDARD
TZOFFSETFROM:-0600
TZOFFSETTO:-0700
TZNAME:MST
DTSTART:20261101T080000
END:STANDARD
END:VTIMEZONE
BEGIN:VEVENT
DTSTART;TZID=America/Denver:20251121T180000
DTEND;TZID=America/Denver:20251121T190000
DTSTAMP:20260425T111033
CREATED:20250112T161149Z
LAST-MODIFIED:20251114T173032Z
UID:955-1763748000-1763751600@bejoyyoga.com
SUMMARY:Sound Bath and Yin
DESCRIPTION:November is officially Gratitude Month!  Please join me as we let the sound and movement spread gratitude through our hearts\, awakening a deep space of appreciation\, allow every cell to be filled with this potent force. \nFriday\, November 21 \n6:00 pm \nThe sound will cultivate deep relaxation as the gentle meditative yin practice invites in a place of rest\, relaxation and self-inquiry. \nThe combination is transforming – a place to let the sound heal and enliven you\, a place to let go\, settle in stillness\, allow your wisdom to arise. \nBathed in gratitude\, it will naturally pour into everything we touch\, everything we create\, everything we do. \nEarly bird special – sign up by 11/16 \n$33 for this blissful practice! \nAfter 11/16 – $42 \nemail to get your spot:  carrie.coppola@gmail.com
URL:https://bejoyyoga.com/event/sound-bath-and-yin/
CATEGORIES:Events and Workshops
ATTACH;FMTTYPE=image/jpeg:https://bejoyyoga.com/wp-content/uploads/2025/01/sound-bowls-11-scaled.jpg
END:VEVENT
END:VCALENDAR