BEGIN:VCALENDAR
VERSION:2.0
PRODID:-//Carrie Coppola Yoga - ECPv6.15.17//NONSGML v1.0//EN
CALSCALE:GREGORIAN
METHOD:PUBLISH
X-ORIGINAL-URL:https://bejoyyoga.com
X-WR-CALDESC:Events for Carrie Coppola Yoga
REFRESH-INTERVAL;VALUE=DURATION:PT1H
X-Robots-Tag:noindex
X-PUBLISHED-TTL:PT1H
BEGIN:VTIMEZONE
TZID:America/Denver
BEGIN:DAYLIGHT
TZOFFSETFROM:-0700
TZOFFSETTO:-0600
TZNAME:MDT
DTSTART:20240310T090000
END:DAYLIGHT
BEGIN:STANDARD
TZOFFSETFROM:-0600
TZOFFSETTO:-0700
TZNAME:MST
DTSTART:20241103T080000
END:STANDARD
BEGIN:DAYLIGHT
TZOFFSETFROM:-0700
TZOFFSETTO:-0600
TZNAME:MDT
DTSTART:20250309T090000
END:DAYLIGHT
BEGIN:STANDARD
TZOFFSETFROM:-0600
TZOFFSETTO:-0700
TZNAME:MST
DTSTART:20251102T080000
END:STANDARD
BEGIN:DAYLIGHT
TZOFFSETFROM:-0700
TZOFFSETTO:-0600
TZNAME:MDT
DTSTART:20260308T090000
END:DAYLIGHT
BEGIN:STANDARD
TZOFFSETFROM:-0600
TZOFFSETTO:-0700
TZNAME:MST
DTSTART:20261101T080000
END:STANDARD
BEGIN:DAYLIGHT
TZOFFSETFROM:-0700
TZOFFSETTO:-0600
TZNAME:MDT
DTSTART:20270314T090000
END:DAYLIGHT
BEGIN:STANDARD
TZOFFSETFROM:-0600
TZOFFSETTO:-0700
TZNAME:MST
DTSTART:20271107T080000
END:STANDARD
END:VTIMEZONE
BEGIN:VEVENT
DTSTART;TZID=America/Denver:20251221T163000
DTEND;TZID=America/Denver:20251221T180000
DTSTAMP:20260425T105309
CREATED:20251211T174939Z
LAST-MODIFIED:20260228T000239Z
UID:1087-1766334600-1766340000@bejoyyoga.com
SUMMARY:Sacred Stillness - Solstice ceremony
DESCRIPTION:Friends\, one of my beloved practices is to bring the year to a close with rituals. They help me embrace the fullness of the years’ experience\, create the space to unite with the deeper parts of me\, allow me to pour presence and love into all I want to nourish and grow\, all I want to bring to life \nThis year I am offering this practice online. The intention is for you to find Sacred Stillness in the comfort of your own home\, to ground in your own space. My hope is this creates room for a daily remembrance of your vow to you\, allows the practices to stay alive for you! \nIt would be my honor to have you join me for . . . \nSACRED STILLNESS\nRitual. Release. Renew.\nSunday\, December 21 \n4:30 – 6:00 pm \n					\n				\n			\n				\n				\n				\n				\n				\n					\n					\n						\n						In the comfort of your home\, we will have time for gentle movement and breath to become centered and grounded. There we will create rituals to release all that you are ready to let go of. \nThrough reflection and writing\, you will set your Sankalpa\, a vow to your highest self. \nThen comes Yoga Nidra!\nThis deeply relaxing meditation\, infused with your own Sankalpa\, will lead you to a profound state of relaxation\, deeply connected to your heart. \nThrough this practice we will access that state between waking and sleeping where you systematically release stored physical\, emotional and mental tensions. The practice helps us let go of the ways of being that are keeping us locked in the past and fearful of the future. \nFeeling grounded\, calm\, centered\, we will create intentions to live from a new perspective — the perspective of knowing your true self. \nAligned with the musings of your heart\, joined with your purpose\, you will come away with a clear vision\, feel inspired to bring to life what is real and essential\, a life of choice\, of dreams\, of possibility – A New! \nEarly bird special – sign up by 12/13 \n$45 for this deeply relaxing meditation! \nAfter 12/13 – $60 \nClaim your space now!  carrie.coppola@gmail.com
URL:https://bejoyyoga.com/event/sacred-stillness-solstice-ceremony/
CATEGORIES:Events and Workshops
ATTACH;FMTTYPE=image/jpeg:https://bejoyyoga.com/wp-content/uploads/2025/12/solstice-2.jpg
END:VEVENT
BEGIN:VEVENT
DTSTART;TZID=America/Denver:20260425T160000
DTEND;TZID=America/Denver:20260425T180000
DTSTAMP:20260425T105309
CREATED:20260227T235217Z
LAST-MODIFIED:20260409T150031Z
UID:1124-1777132800-1777140000@bejoyyoga.com
SUMMARY:Rest and Renew - Restore workshop
DESCRIPTION:Rest & Renew \nSaturday\, April 25 \n4 – 6 pm \nPlease join me for this Restore workshop!   \nGive yourself the gift of rest\, a space to be nourished from the inside. \nEmerge renewed\, refreshed\, reinvigorated! \n					\n				\n			\n				\n				\n				\n				\n				\n					\n					\n						\n						The importance of resting\, slowing down\, taking time for yourself cannot be overstated.  It is necessary for our overall health and wellbeing.\n\n\nThroughout this workshop we will take it easy\, move mindfully\, give our body time to truly relax. The breathing practices will offer ways to develop calm and stillness\, creating a resting place for the senses.\n\nGrounded in our essence\, we will emerge with our essence restored\, our spirit refreshed!\n\nAnd did I forget to mention\, the Sound Bowls will be making a special appearance!!!\n					\n				\n			\n				\n				\n				\n				\n				\n					\n					\n						\n						Early bird special – sign up by 4/10 \n$45 for this deeply relaxing practice  \nAfter4/10 – $66 \nPay here – thank you! \nAn ideal way to find rest and renew you!\nClaim your space now!  Contact \nWorkshop held at Soma – Sage & Soul\, 4434 South Highland Drive
URL:https://bejoyyoga.com/event/rest-and-renew-restore-workshop/
CATEGORIES:Events and Workshops
ATTACH;FMTTYPE=image/jpeg:https://bejoyyoga.com/wp-content/uploads/2023/11/Mudita-47-scaled.jpg
END:VEVENT
BEGIN:VEVENT
DTSTART;TZID=America/Denver:20260917T160000
DTEND;TZID=America/Denver:20260921T120000
DTSTAMP:20260425T105309
CREATED:20231003T084403Z
LAST-MODIFIED:20260121T182612Z
UID:229-1789660800-1789992000@bejoyyoga.com
SUMMARY:Women’s Yoga Retreat September 2026
DESCRIPTION:  \n \nA retreat is a gift we give ourselves – time to rest\, rejuvenate\, reflect. Away from the busyness of our lives\, apart from our “to do lists”\, we center and connect with our inner most selves to discover\, to uncover what is real\, important and true – to commune with soul! \nI have dreamed of taking my women’s retreat to Mexico! Amazingly! Magically! The dream came true!  We are going back!!! \nWomen’s Yoga Retreat\nSeptember 17 – 21\, 2026\nin Mexico!!!\nLadies\, you are cordially invited to join me in Mexico to center\, connect and create a vision of life in balance. This is truly a grand adventure! \nOur view\, our windows will be the open\, unguarded sea\, our doorways the ever moving tide. \n \nFor four days Mixto will be our home – for practice\, for introspection\, for relaxing\, for laughter\, for adventure. \nHeld in that space\, we will begin to find our ground of inquiry. The open air practices of pranayama\, meditation\, asana will guide us to connect to new strength\, and as well new gentleness. Each will be an offering of inquiry\, a space of contemplation\, to uncover\, to discover your truth. \nBasking in the golden sunlight in the ever infinite sky\, we will connect to our brilliant light\, the boundless space of our heart\, and find a voice that supports the natural rhythm of our being\, our authenticity. \nSuffice it to say it is not to be missed!\nYou will come away connected\, enlivened\, inspired! \nGratefully and humbly\, I will give you my wholehearted attention and guidance to bring you to a greater place of connection. \nEach day will be greeted reverently\, with ritual\, with breath\, with yoga\, filled with communing – with self\, with nature\, with others\, with what would serve you\, with practices that will create stillness and aliveness; space to encounter and unite with your true self. \nThere will be sacredness\, playfulness\, adventure and relaxation; sun worship-ing\, water skipping\, nature abounding; heavenly food\, profound practice\, deep inquiry!\nWe will laugh\, cry\, hike\, swim\, lounge and dance – often in the same day! \nA beautiful\, powerful journey of infinite possibility is before you if you choose in to this adventure! \n \nWe will travel by boat from Puerto Vallarta to reach our retreat destination\, Mixto. \nThis tropical oasis nestled in the heart of a picturesque Mexican fishing village\, is designed to enhance your feeling of reconnection with nature. \nWe will have exclusive use of this beautiful Eco-chic boutique haven – peaceful rooms overlooking the ocean\, private deck and pool\, open-air Yoga shala. \nA unique setting nestled between the river\, the ocean and the jungle\, beautiful open air living for your enjoyment\, pleasure\, indulgence! \n  \n  \n  \nInvestment for this one-of-a-kind retreat: \nTriple occupancy\nper person\nRoom w/AC $1329\nPenthouse w/AC $1665 \nDouble occupancy\nper person\nRoom w/AC $1535\nPenthouse w/AC $1925 \nSingle occupancy – SOLD OUT!\nper person\nRoom w/AC $2050 \nIncluded \n4 nights accommodations at eco-chic resort\n3 delicious & healthy meals daily\, with foods sourced from local organic farm\nYoga\, pranayama\, meditation daily\nocean front pool\nkayaking and snorkeling\nopening and closing ceremony\nairport transfer (within arrival and departure time parameters) \nNot Included \nairfare\nadd-on drinks and snacks that you order\nmassage + spa services\nsurf/SUP lessons and board rentals\noff-site meals\noptional excursions\ntravel insurance (strongly recommended) \n$250 deposit to hold your spot.  Full payment due by August 31. \nSign up here:  carrie.coppola@gmail.com \n \nThe impetus for this retreat is my deep belief in the power of women; I believe in the words of the Dali Lama that “the world will be saved by the western woman”; I believe that the time is now for the collective consciousness of women to rise up!  To come together to embrace our individual power and create a space of change! \nWe can wait no longer to find our voices\, to own our power and to demonstrate to the world how to live more authentically. \nIt would be my honor to have you join me!
URL:https://bejoyyoga.com/event/four-day-womens-retreat-september-17-21-2026/
CATEGORIES:Retreats
END:VEVENT
END:VCALENDAR